BEGIN:VCALENDAR
VERSION:2.0
PRODID:-// - ECPv5.16.4//NONSGML v1.0//EN
CALSCALE:GREGORIAN
METHOD:PUBLISH
X-ORIGINAL-URL:https://hrod.ipst.ac.th
X-WR-CALDESC:Events for 
BEGIN:VTIMEZONE
TZID:Asia/Krasnoyarsk
BEGIN:STANDARD
TZOFFSETFROM:+0700
TZOFFSETTO:+0700
TZNAME:+07
DTSTART:20220101T000000
END:STANDARD
END:VTIMEZONE
BEGIN:VEVENT
DTSTART;VALUE=DATE:20221212
DTEND;VALUE=DATE:20221213
DTSTAMP:20260424T190511
CREATED:20220829T071245Z
LAST-MODIFIED:20220829T071245Z
UID:8529-1670803200-1670889599@hrod.ipst.ac.th
SUMMARY:วันหยุดชดเชยวันรัฐธรรมนูญ
DESCRIPTION:
URL:https://hrod.ipst.ac.th/event/%e0%b8%a7%e0%b8%b1%e0%b8%99%e0%b8%ab%e0%b8%a2%e0%b8%b8%e0%b8%94%e0%b8%8a%e0%b8%94%e0%b9%80%e0%b8%8a%e0%b8%a2%e0%b8%a7%e0%b8%b1%e0%b8%99%e0%b8%a3%e0%b8%b1%e0%b8%90%e0%b8%98%e0%b8%a3%e0%b8%a3%e0%b8%a1/
END:VEVENT
END:VCALENDAR