BEGIN:VCALENDAR
VERSION:2.0
PRODID:-// - ECPv5.16.4//NONSGML v1.0//EN
CALSCALE:GREGORIAN
METHOD:PUBLISH
X-ORIGINAL-URL:https://hrod.ipst.ac.th
X-WR-CALDESC:Events for 
BEGIN:VTIMEZONE
TZID:Asia/Krasnoyarsk
BEGIN:STANDARD
TZOFFSETFROM:+0700
TZOFFSETTO:+0700
TZNAME:+07
DTSTART:20210101T000000
END:STANDARD
END:VTIMEZONE
BEGIN:VEVENT
DTSTART;VALUE=DATE:20210728
DTEND;VALUE=DATE:20210729
DTSTAMP:20260423T075932
CREATED:20210121T124850Z
LAST-MODIFIED:20210121T124850Z
UID:7322-1627430400-1627516799@hrod.ipst.ac.th
SUMMARY:วันเฉลิมพระชนมพรรษา ร.10
DESCRIPTION:
URL:https://hrod.ipst.ac.th/event/%e0%b8%a7%e0%b8%b1%e0%b8%99%e0%b9%80%e0%b8%89%e0%b8%a5%e0%b8%b4%e0%b8%a1%e0%b8%9e%e0%b8%a3%e0%b8%b0%e0%b8%8a%e0%b8%99%e0%b8%a1%e0%b8%9e%e0%b8%a3%e0%b8%a3%e0%b8%a9%e0%b8%b2-%e0%b8%a3-10/
END:VEVENT
END:VCALENDAR