BEGIN:VCALENDAR
VERSION:2.0
PRODID:-// - ECPv5.16.4//NONSGML v1.0//EN
CALSCALE:GREGORIAN
METHOD:PUBLISH
X-ORIGINAL-URL:https://hrod.ipst.ac.th
X-WR-CALDESC:Events for 
BEGIN:VTIMEZONE
TZID:Asia/Krasnoyarsk
BEGIN:STANDARD
TZOFFSETFROM:+0700
TZOFFSETTO:+0700
TZNAME:+07
DTSTART:20220101T000000
END:STANDARD
END:VTIMEZONE
BEGIN:VEVENT
DTSTART;VALUE=DATE:20220812
DTEND;VALUE=DATE:20220813
DTSTAMP:20260425T050214
CREATED:20220426T101733Z
LAST-MODIFIED:20220426T101733Z
UID:8399-1660262400-1660348799@hrod.ipst.ac.th
SUMMARY:วันแม่แห่งชาติ
DESCRIPTION:
URL:https://hrod.ipst.ac.th/event/%e0%b8%a7%e0%b8%b1%e0%b8%99%e0%b9%81%e0%b8%a1%e0%b9%88%e0%b9%81%e0%b8%ab%e0%b9%88%e0%b8%87%e0%b8%8a%e0%b8%b2%e0%b8%95%e0%b8%b4-2/
END:VEVENT
END:VCALENDAR